BEGIN:VCALENDAR
VERSION:2.0
PRODID:-//ChamberMaster//Event Calendar 2.0//EN
METHOD:PUBLISH
X-PUBLISHED-TTL:P3D
REFRESH-INTERVAL:P3D
CALSCALE:GREGORIAN
BEGIN:VEVENT
DTSTART:20240320T120000Z
DTEND:20240320T230000Z
X-MICROSOFT-CDO-ALLDAYEVENT:FALSE
SUMMARY:Downtown Drawdown
DESCRIPTION:Want to reduce waste at your business? We'll have a Waste Reduction Consultant from the Center for EcoTechnology doing on-site waste assessments for participating businesses on March 20th\, 2024. Assessments take about 30-45 min and will include a summary report and ongoing customized guidance to help you start or improve waste reduction programs. Fill out the registration form here to get on the schedule: https://recyclingworksma.com/getassistance/
X-ALT-DESC;FMTTYPE=text/html:Want to reduce waste at your business? We&rsquo\;ll have a Waste Reduction Consultant from the Center for EcoTechnology doing on-site waste assessments for participating businesses on March 20th\, 2024. Assessments take about 30-45 min and will include a summary report and ongoing customized guidance to help you start or improve waste reduction programs. Fill out the registration form here to get on the schedule: https://recyclingworksma.com/getassistance/
LOCATION:
UID:e.2160.20064
SEQUENCE:3
DTSTAMP:20260421T051517Z
URL:http://salem-chamber.chambermaster.com/events/details/downtown-drawdown-20064
END:VEVENT

END:VCALENDAR
