BEGIN:VCALENDAR
VERSION:2.0
PRODID:-//ChamberMaster//Event Calendar 2.0//EN
METHOD:PUBLISH
X-PUBLISHED-TTL:P3D
REFRESH-INTERVAL:P3D
CALSCALE:GREGORIAN
BEGIN:VEVENT
DTSTART:20240211T230000Z
DTEND:20240212T020000Z
X-MICROSOFT-CDO-ALLDAYEVENT:FALSE
SUMMARY:Lupercalia Printmaking Workshop
DESCRIPTION:Based on the Roman festival of the same name\, Lupercalia falls on February 15. In keeping with the ancient tradition\, February 13th and 14th are observed as feast days leading up to the actual holiday. What we are translating this to in TST is a "hail yourself" day. This idea offers a parallel to the "others-centered" traditions of Sol Invictus.\n\n\n\nThis workshop will be led by Hannah Capra\, who has a BFA in printmaking and has been teaching since she was 16. Participants will make 4x6" carvings in celebration of self\, bodily autonomy\, sexual liberation\, and reproduction. They will then ink and print these carvings\, making multiple cards that they may trade with other participants and give out to friends- or enemies. Singles encouraged\, couples welcomed!  \n\n\n\nTicket price includes all materials necessary to participate in the workshop!
X-ALT-DESC;FMTTYPE=text/html:Based on the Roman festival of the same name\, Lupercalia falls on February 15. In keeping with the ancient tradition\, February 13th and 14th are observed as feast days leading up to the actual holiday. What we are translating this to in TST is a &quot\;hail yourself&quot\; day. This idea offers a parallel to the &quot\;others-centered&quot\; traditions of Sol Invictus.<br />\n<br />\nThis workshop will be led by Hannah Capra\, who has a BFA in printmaking and has been teaching since she was 16. Participants will make 4x6&rdquo\; carvings in celebration of self\, bodily autonomy\, sexual liberation\, and reproduction. They will then ink and print these carvings\, making multiple cards that they may trade with other participants and give out to friends- or enemies. Singles encouraged\, couples welcomed!&nbsp\;&nbsp\;<br />\n<br />\nTicket price includes all materials necessary to participate in the workshop!
LOCATION:The Satanic Temple Salem 64 Bridge St\, Salem\, MA 01970
UID:e.2160.19324
SEQUENCE:3
DTSTAMP:20260421T142726Z
URL:http://salem-chamber.chambermaster.com/events/details/lupercalia-printmaking-workshop-19324
END:VEVENT

END:VCALENDAR
